BEGIN:VCALENDAR
VERSION:2.0
PRODID:-//oost-online.amsterdam - ECPv6.15.20//NONSGML v1.0//EN
CALSCALE:GREGORIAN
METHOD:PUBLISH
X-WR-CALNAME:oost-online.amsterdam
X-ORIGINAL-URL:https://oost-online.nl
X-WR-CALDESC:Evenementen voor oost-online.amsterdam
REFRESH-INTERVAL;VALUE=DURATION:PT1H
X-Robots-Tag:noindex
X-PUBLISHED-TTL:PT1H
BEGIN:VTIMEZONE
TZID:Europe/Amsterdam
BEGIN:DAYLIGHT
TZOFFSETFROM:+0100
TZOFFSETTO:+0200
TZNAME:CEST
DTSTART:20250330T010000
END:DAYLIGHT
BEGIN:STANDARD
TZOFFSETFROM:+0200
TZOFFSETTO:+0100
TZNAME:CET
DTSTART:20251026T010000
END:STANDARD
BEGIN:DAYLIGHT
TZOFFSETFROM:+0100
TZOFFSETTO:+0200
TZNAME:CEST
DTSTART:20260329T010000
END:DAYLIGHT
BEGIN:STANDARD
TZOFFSETFROM:+0200
TZOFFSETTO:+0100
TZNAME:CET
DTSTART:20261025T010000
END:STANDARD
BEGIN:DAYLIGHT
TZOFFSETFROM:+0100
TZOFFSETTO:+0200
TZNAME:CEST
DTSTART:20270328T010000
END:DAYLIGHT
BEGIN:STANDARD
TZOFFSETFROM:+0200
TZOFFSETTO:+0100
TZNAME:CET
DTSTART:20271031T010000
END:STANDARD
END:VTIMEZONE
BEGIN:VEVENT
DTSTART;TZID=Europe/Amsterdam:20260424T190000
DTEND;TZID=Europe/Amsterdam:20260424T220000
DTSTAMP:20260424T023511
CREATED:20260423T165240Z
LAST-MODIFIED:20260423T165240Z
UID:10015936-1777057200-1777068000@oost-online.nl
SUMMARY:College over Hip-Hop door Brainpower. In het Stadsarchief
DESCRIPTION:Collegereeks over Hip-Hop door Brainpower\nHip-Hopartiest Brainpower schenkt zijn archief aan het Stadsarchief en zal in het kader hiervan drie colleges geven over het ontstaan\, de impact en de nalatenschap van het album Door Merg & Brain\, dat 25 jaar geleden uitkwam\, en breder\, over de ontwikkeling van hiphop in Amsterdam en Nederland. Het eerste college is al op vrijdag 24 april\, gratis\, meld je snel aan! \nCollege 2:  26 juni\, 19:00-22:00 uur\, €7\,50 \nCollege 3: 23 oktober\, 19:00-22:00 uur\, €7\,50
URL:https://oost-online.nl/evenementen/college-over-hip-hop-door-brainpower-in-het-stadsarchief/2026-04-24/
LOCATION:Stadsarchief\, Vijzelstraat 32\, 1017 HL
CATEGORIES:Cursussen en workshops,Uit Agenda
END:VEVENT
BEGIN:VEVENT
DTSTART;TZID=Europe/Amsterdam:20260626T190000
DTEND;TZID=Europe/Amsterdam:20260626T220000
DTSTAMP:20260424T023511
CREATED:20260423T165240Z
LAST-MODIFIED:20260423T165240Z
UID:10015937-1782500400-1782511200@oost-online.nl
SUMMARY:College over Hip-Hop door Brainpower. In het Stadsarchief
DESCRIPTION:Collegereeks over Hip-Hop door Brainpower\nHip-Hopartiest Brainpower schenkt zijn archief aan het Stadsarchief en zal in het kader hiervan drie colleges geven over het ontstaan\, de impact en de nalatenschap van het album Door Merg & Brain\, dat 25 jaar geleden uitkwam\, en breder\, over de ontwikkeling van hiphop in Amsterdam en Nederland. Het eerste college is al op vrijdag 24 april\, gratis\, meld je snel aan! \nCollege 2:  26 juni\, 19:00-22:00 uur\, €7\,50 \nCollege 3: 23 oktober\, 19:00-22:00 uur\, €7\,50
URL:https://oost-online.nl/evenementen/college-over-hip-hop-door-brainpower-in-het-stadsarchief/2026-06-26/
LOCATION:Stadsarchief\, Vijzelstraat 32\, 1017 HL
CATEGORIES:Cursussen en workshops,Uit Agenda
END:VEVENT
BEGIN:VEVENT
DTSTART;TZID=Europe/Amsterdam:20261023T190000
DTEND;TZID=Europe/Amsterdam:20261023T220000
DTSTAMP:20260424T023511
CREATED:20260423T165240Z
LAST-MODIFIED:20260423T165240Z
UID:10015938-1792782000-1792792800@oost-online.nl
SUMMARY:College over Hip-Hop door Brainpower. In het Stadsarchief
DESCRIPTION:Collegereeks over Hip-Hop door Brainpower\nHip-Hopartiest Brainpower schenkt zijn archief aan het Stadsarchief en zal in het kader hiervan drie colleges geven over het ontstaan\, de impact en de nalatenschap van het album Door Merg & Brain\, dat 25 jaar geleden uitkwam\, en breder\, over de ontwikkeling van hiphop in Amsterdam en Nederland. Het eerste college is al op vrijdag 24 april\, gratis\, meld je snel aan! \nCollege 2:  26 juni\, 19:00-22:00 uur\, €7\,50 \nCollege 3: 23 oktober\, 19:00-22:00 uur\, €7\,50
URL:https://oost-online.nl/evenementen/college-over-hip-hop-door-brainpower-in-het-stadsarchief/2026-10-23/
LOCATION:Stadsarchief\, Vijzelstraat 32\, 1017 HL
CATEGORIES:Cursussen en workshops,Uit Agenda
END:VEVENT
END:VCALENDAR