BEGIN:VCALENDAR
VERSION:2.0
PRODID:-//oost-online.amsterdam - ECPv6.15.20//NONSGML v1.0//EN
CALSCALE:GREGORIAN
METHOD:PUBLISH
X-WR-CALNAME:oost-online.amsterdam
X-ORIGINAL-URL:https://oost-online.nl
X-WR-CALDESC:Evenementen voor oost-online.amsterdam
REFRESH-INTERVAL;VALUE=DURATION:PT1H
X-Robots-Tag:noindex
X-PUBLISHED-TTL:PT1H
BEGIN:VTIMEZONE
TZID:Europe/Amsterdam
BEGIN:DAYLIGHT
TZOFFSETFROM:+0100
TZOFFSETTO:+0200
TZNAME:CEST
DTSTART:20250330T010000
END:DAYLIGHT
BEGIN:STANDARD
TZOFFSETFROM:+0200
TZOFFSETTO:+0100
TZNAME:CET
DTSTART:20251026T010000
END:STANDARD
BEGIN:DAYLIGHT
TZOFFSETFROM:+0100
TZOFFSETTO:+0200
TZNAME:CEST
DTSTART:20260329T010000
END:DAYLIGHT
BEGIN:STANDARD
TZOFFSETFROM:+0200
TZOFFSETTO:+0100
TZNAME:CET
DTSTART:20261025T010000
END:STANDARD
BEGIN:DAYLIGHT
TZOFFSETFROM:+0100
TZOFFSETTO:+0200
TZNAME:CEST
DTSTART:20270328T010000
END:DAYLIGHT
BEGIN:STANDARD
TZOFFSETFROM:+0200
TZOFFSETTO:+0100
TZNAME:CET
DTSTART:20271031T010000
END:STANDARD
END:VTIMEZONE
BEGIN:VEVENT
DTSTART;TZID=Europe/Amsterdam:20260528T130000
DTEND;TZID=Europe/Amsterdam:20260528T140000
DTSTAMP:20260423T141921
CREATED:20260212T092600Z
LAST-MODIFIED:20260212T092600Z
UID:10015218-1779973200-1779976800@oost-online.nl
SUMMARY:Inloopspreekuur stadsdeel Centrum in De Witte Boei
DESCRIPTION:Heb je een goed idee voor de buurt\, een vraag of wil je iets anders bespreken?\nKom dan naar het inloopspreekuur van 13.00 tot 14.00 uur in De Witte Boei en ga in gesprek met Nienke Renssen\, bestuurder van stadsdeel Centrum.\nJe mag met elk onderwerp langskomen. Of het nu gaat om persoonlijke ervaringen\, ergernissen of plannen voor een betere wijk\, de stadsdeelbestuurder van stadsdeel Centrum luistert graag naar jouw verhaal en denkt met je mee.\nEen afspraak maken is niet nodig!
URL:https://oost-online.nl/evenementen/inloopspreekuur-stadsdeel-centrum-in-de-witte-boei/
LOCATION:Huis van de buurt Witte Boei\, Kleine Wittenburgerstraat 201\, 1018 LT
CATEGORIES:Uit Agenda
GEO:52.3715077;4.9217355
X-APPLE-STRUCTURED-LOCATION;VALUE=URI;X-ADDRESS=Huis van de buurt Witte Boei Kleine Wittenburgerstraat 201 1018 LT;X-APPLE-RADIUS=500;X-TITLE=Kleine Wittenburgerstraat 201:geo:4.9217355,52.3715077
END:VEVENT
END:VCALENDAR