BEGIN:VCALENDAR
VERSION:2.0
PRODID:-//oost-online.amsterdam - ECPv6.15.20//NONSGML v1.0//EN
CALSCALE:GREGORIAN
METHOD:PUBLISH
X-WR-CALNAME:oost-online.amsterdam
X-ORIGINAL-URL:https://oost-online.nl
X-WR-CALDESC:Evenementen voor oost-online.amsterdam
REFRESH-INTERVAL;VALUE=DURATION:PT1H
X-Robots-Tag:noindex
X-PUBLISHED-TTL:PT1H
BEGIN:VTIMEZONE
TZID:Europe/Amsterdam
BEGIN:DAYLIGHT
TZOFFSETFROM:+0100
TZOFFSETTO:+0200
TZNAME:CEST
DTSTART:20250330T010000
END:DAYLIGHT
BEGIN:STANDARD
TZOFFSETFROM:+0200
TZOFFSETTO:+0100
TZNAME:CET
DTSTART:20251026T010000
END:STANDARD
BEGIN:DAYLIGHT
TZOFFSETFROM:+0100
TZOFFSETTO:+0200
TZNAME:CEST
DTSTART:20260329T010000
END:DAYLIGHT
BEGIN:STANDARD
TZOFFSETFROM:+0200
TZOFFSETTO:+0100
TZNAME:CET
DTSTART:20261025T010000
END:STANDARD
BEGIN:DAYLIGHT
TZOFFSETFROM:+0100
TZOFFSETTO:+0200
TZNAME:CEST
DTSTART:20270328T010000
END:DAYLIGHT
BEGIN:STANDARD
TZOFFSETFROM:+0200
TZOFFSETTO:+0100
TZNAME:CET
DTSTART:20271031T010000
END:STANDARD
END:VTIMEZONE
BEGIN:VEVENT
DTSTART;TZID=Europe/Amsterdam:20260505T170000
DTEND;TZID=Europe/Amsterdam:20260505T170000
DTSTAMP:20260422T142227
CREATED:20260402T103816Z
LAST-MODIFIED:20260402T103841Z
UID:10015670-1778000400-1778000400@oost-online.nl
SUMMARY:Vrijheidsmaaltijd met tentoonstelling en lezing. Bij Museum Perron Oost
DESCRIPTION:Propaganda is van alle tijden. In de 20e eeuw ging het om zieltjes winnen en de tegenstander zwartmaken. Tegenwoordig hebben we desinformatie. Daarbij gaat het nog steeds om het zwartmaken van de tegenstander en het uit elkaar spelen van groepen.\nGwenda Nielen\, specialist desinformatie\, komt een lezing te geven over hoe we ons kunnen wapenen tegen de stortvloed aan desinformatie. Hoe herkennen we desinformatie en hoe kunnen we daarop reageren. Dat is belangrijk want als mensen niet meer weten wat waar is\, zijn ze makkelijk te beïnvloeden. ‘Je wil graag zien wat je al gelooft en wat negatief en spannend is\, trekt je aandacht. We zouden ons moeten afvragen: Wie is de afzender en wat is zijn/haar motivatie? Is dit bericht gemaakt om me te informeren of te emotioneren? \nAngst en chaos veroorzaken waarna de roep om een sterke man steeds luider klinkt. In beide gevallen gaat het om manipulatie van informatie om mensen gecoördineerd en met opzet te misleiden. Door technologie zijn er vandaag de dag echter veel meer mogelijkheden om het publiek\, of moeten we zeggen ‘het volk’\, te misleiden. \nBuurtkoks verzorgen de maaltijd voor 60 personen. Inhoudelijk programma met Gwenda Nielen. Aanmelden via info@museumperronoost.nl \nTentoonstelling in Museum Perron Oost– Perron propaganda – 29 maart tot en met 5 mei – 24/7 te zien vanaf het monumentale perron. \nCheck www.museumperronoost.nl
URL:https://oost-online.nl/evenementen/vrijheidsmaaltijd-met-tentoonstelling-en-lezing-bij-museum-perron-oost/
LOCATION:Museum Perron Oost\, Cruquiusweg 11
GEO:52.3685416;4.9369625
X-APPLE-STRUCTURED-LOCATION;VALUE=URI;X-ADDRESS=Museum Perron Oost Cruquiusweg 11;X-APPLE-RADIUS=500;X-TITLE=Cruquiusweg 11:geo:4.9369625,52.3685416
END:VEVENT
END:VCALENDAR